
BEGIN:VCALENDAR
VERSION:2.0
PRODID:-//Toe River Arts - ECPv6.15.17.1//NONSGML v1.0//EN
CALSCALE:GREGORIAN
METHOD:PUBLISH
X-WR-CALNAME:Toe River Arts
X-ORIGINAL-URL:http://toeriverarts.org
X-WR-CALDESC:Events for Toe River Arts
REFRESH-INTERVAL;VALUE=DURATION:PT1H
X-Robots-Tag:noindex
X-PUBLISHED-TTL:PT1H
BEGIN:VTIMEZONE
TZID:America/New_York
BEGIN:DAYLIGHT
TZOFFSETFROM:-0500
TZOFFSETTO:-0400
TZNAME:EDT
DTSTART:20220313T070000
END:DAYLIGHT
BEGIN:STANDARD
TZOFFSETFROM:-0400
TZOFFSETTO:-0500
TZNAME:EST
DTSTART:20221106T060000
END:STANDARD
BEGIN:DAYLIGHT
TZOFFSETFROM:-0500
TZOFFSETTO:-0400
TZNAME:EDT
DTSTART:20230312T070000
END:DAYLIGHT
BEGIN:STANDARD
TZOFFSETFROM:-0400
TZOFFSETTO:-0500
TZNAME:EST
DTSTART:20231105T060000
END:STANDARD
BEGIN:DAYLIGHT
TZOFFSETFROM:-0500
TZOFFSETTO:-0400
TZNAME:EDT
DTSTART:20240310T070000
END:DAYLIGHT
BEGIN:STANDARD
TZOFFSETFROM:-0400
TZOFFSETTO:-0500
TZNAME:EST
DTSTART:20241103T060000
END:STANDARD
END:VTIMEZONE
BEGIN:VEVENT
DTSTART;TZID=America/New_York:20230318T100000
DTEND;TZID=America/New_York:20230318T120000
DTSTAMP:20260423T205749
CREATED:20230301T013801Z
LAST-MODIFIED:20230301T013801Z
UID:28222-1679133600-1679140800@toeriverarts.org
SUMMARY:Amazing Animals Workshop
DESCRIPTION:Welcome Spring with this fun workshop focused on animals. Whether feathered\, furry\, or finned – we’ll explore ways to make the animals you love! Class includes all materials and firing. Ages 5+. \nWhen: Saturday\, March 18\, 2023\, 10 am – 12 pm\nWhere: High Country Ceramic Arts\, Burnsville\, NC\nWorkshop & materials fee:: $55 per participant \nRegister here.
URL:http://toeriverarts.org/event/amazing-animals-workshop/
LOCATION:High Country Ceramic Arts\, Burnsville.\, 552 E U.S. Hwy 19E Bypass\, Burnsville\, North Carolina\, 28714
CATEGORIES:Workshop
ATTACH;FMTTYPE=image/jpeg:http://toeriverarts.org/wp-content/uploads/2023/02/Animals-Workshop-scaled.jpeg
ORGANIZER;CN="Toe River Arts":MAILTO:info@toeriverarts.org
END:VEVENT
END:VCALENDAR