
BEGIN:VCALENDAR
VERSION:2.0
PRODID:-//Toe River Arts - ECPv6.15.17.1//NONSGML v1.0//EN
CALSCALE:GREGORIAN
METHOD:PUBLISH
X-ORIGINAL-URL:http://toeriverarts.org
X-WR-CALDESC:Events for Toe River Arts
REFRESH-INTERVAL;VALUE=DURATION:PT1H
X-Robots-Tag:noindex
X-PUBLISHED-TTL:PT1H
BEGIN:VTIMEZONE
TZID:America/New_York
BEGIN:DAYLIGHT
TZOFFSETFROM:-0500
TZOFFSETTO:-0400
TZNAME:EDT
DTSTART:20220313T070000
END:DAYLIGHT
BEGIN:STANDARD
TZOFFSETFROM:-0400
TZOFFSETTO:-0500
TZNAME:EST
DTSTART:20221106T060000
END:STANDARD
BEGIN:DAYLIGHT
TZOFFSETFROM:-0500
TZOFFSETTO:-0400
TZNAME:EDT
DTSTART:20230312T070000
END:DAYLIGHT
BEGIN:STANDARD
TZOFFSETFROM:-0400
TZOFFSETTO:-0500
TZNAME:EST
DTSTART:20231105T060000
END:STANDARD
BEGIN:DAYLIGHT
TZOFFSETFROM:-0500
TZOFFSETTO:-0400
TZNAME:EDT
DTSTART:20240310T070000
END:DAYLIGHT
BEGIN:STANDARD
TZOFFSETFROM:-0400
TZOFFSETTO:-0500
TZNAME:EST
DTSTART:20241103T060000
END:STANDARD
END:VTIMEZONE
BEGIN:VEVENT
DTSTART;VALUE=DATE:20230211
DTEND;VALUE=DATE:20230312
DTSTAMP:20260423T144510
CREATED:20230224T024919Z
LAST-MODIFIED:20230301T020236Z
UID:28206-1676073600-1678579199@toeriverarts.org
SUMMARY:Mitchell County Student Showcase
DESCRIPTION:The Arts in Education Showcase features the artwork of kindergarten through 12th-grade students from public\, private\, and home schools in Mitchell County. The showcase celebrates the creative achievements of our students and honors the dedication shown by the art educators who nurture creativity and artistic growth. \nWhen: February 11 – March 11\, 2023Where: Kokol Gallery
URL:http://toeriverarts.org/event/mitchell-county-student-showcase/
LOCATION:Toe River Arts Gallery – Spruce Pine\, 269 Oak Ave\, Spruce Pine\, NC\, 28777\, United States
CATEGORIES:Exhibition
ATTACH;FMTTYPE=image/jpeg:http://toeriverarts.org/wp-content/uploads/2023/02/IMG_0666.jpg
ORGANIZER;CN="Toe River Arts":MAILTO:info@toeriverarts.org
END:VEVENT
BEGIN:VEVENT
DTSTART;TZID=America/New_York:20230304T110000
DTEND;TZID=America/New_York:20230304T130000
DTSTAMP:20260423T144510
CREATED:20230224T025518Z
LAST-MODIFIED:20230301T020856Z
UID:28209-1677927600-1677934800@toeriverarts.org
SUMMARY:Mitchell County Student Showcase Reception
DESCRIPTION:When: March 4\, 2023\, 11AM – 1PM\nWhere: Kokol Gallery
URL:http://toeriverarts.org/event/mitchell-county-student-showcase-reception/
LOCATION:Toe River Arts Gallery – Spruce Pine\, 269 Oak Ave\, Spruce Pine\, NC\, 28777\, United States
CATEGORIES:Art Event
ATTACH;FMTTYPE=image/jpeg:http://toeriverarts.org/wp-content/uploads/2023/02/IMG_0651.jpg
ORGANIZER;CN="Toe River Arts":MAILTO:info@toeriverarts.org
END:VEVENT
BEGIN:VEVENT
DTSTART;TZID=America/New_York:20230314T180000
DTEND;TZID=America/New_York:20230314T200000
DTSTAMP:20260423T144510
CREATED:20230122T204629Z
LAST-MODIFIED:20230122T204745Z
UID:27846-1678816800-1678824000@toeriverarts.org
SUMMARY:Second Tuesday Life Drawing - March
DESCRIPTION:Let’s draw together! Bring your favorite drawing implements and surfaces\, or use ours\, and let’s spend the evening in the Toe River Arts Owen Gallery in Spruce Pine\, sharing tips and tricks and improving our drawing skills. We’ll work with live-clothed models and still-life setups. \nRegister here. \nWhen: Tuesday\, March 13\, 2023\, 6 pm – 8 pm\nWhere: Owen Gallery\, Spruce Pine\, NC\nWorkshop & materials fee: \n$12 – Single class – General Public\n$10 – Single class- Current Toe River Arts Members & Donors\n$50 – 5 class punch card – General Public\n$40 – 5 class punch card- Current Toe River Arts Members & Donors\n$95 – 10 class punch card – General Public\n$75 – 10 class punch card – Current Toe River Arts Members & Donors
URL:http://toeriverarts.org/event/second-tuesday-life-drawing/
LOCATION:Toe River Arts Gallery – Spruce Pine\, 269 Oak Ave\, Spruce Pine\, NC\, 28777\, United States
CATEGORIES:Workshop
ATTACH;FMTTYPE=image/jpeg:http://toeriverarts.org/wp-content/uploads/2023/01/Life-Drawing-Workshop.jpg
ORGANIZER;CN="Toe River Arts":MAILTO:info@toeriverarts.org
END:VEVENT
BEGIN:VEVENT
DTSTART;TZID=America/New_York:20230318T100000
DTEND;TZID=America/New_York:20230318T120000
DTSTAMP:20260423T144510
CREATED:20230301T013801Z
LAST-MODIFIED:20230301T013801Z
UID:28222-1679133600-1679140800@toeriverarts.org
SUMMARY:Amazing Animals Workshop
DESCRIPTION:Welcome Spring with this fun workshop focused on animals. Whether feathered\, furry\, or finned – we’ll explore ways to make the animals you love! Class includes all materials and firing. Ages 5+. \nWhen: Saturday\, March 18\, 2023\, 10 am – 12 pm\nWhere: High Country Ceramic Arts\, Burnsville\, NC\nWorkshop & materials fee:: $55 per participant \nRegister here.
URL:http://toeriverarts.org/event/amazing-animals-workshop/
LOCATION:High Country Ceramic Arts\, Burnsville.\, 552 E U.S. Hwy 19E Bypass\, Burnsville\, North Carolina\, 28714
CATEGORIES:Workshop
ATTACH;FMTTYPE=image/jpeg:http://toeriverarts.org/wp-content/uploads/2023/02/Animals-Workshop-scaled.jpeg
ORGANIZER;CN="Toe River Arts":MAILTO:info@toeriverarts.org
END:VEVENT
BEGIN:VEVENT
DTSTART;VALUE=DATE:20230325
DTEND;VALUE=DATE:20230430
DTSTAMP:20260423T144510
CREATED:20230301T015951Z
LAST-MODIFIED:20230301T020048Z
UID:28229-1679702400-1682812799@toeriverarts.org
SUMMARY:16th Annual Blacksmith Exhibition
DESCRIPTION:Featuring the work of blacksmiths from the southeast and beyond\, this exhibition offers craftspeople the opportunity to show their work in a place known for its blacksmithing community. Historically\, the exhibition runs in conjunction with the Fire on the Mountain Blacksmithing Festival. Spruce Pine Main Street\, in collaboration with Penland School of Craft and Toe River Arts\, hosts the festival every year on the last weekend in April. The public can explore vendor tents for goods for sale\, observe live demonstrations\, or try their hand at blacksmithing at scheduled hands-on workshops. Every year\, the Fire on the Mountain Festival asks a renowned metalworker to join the festival as its Featured Artist Blacksmith. This year’s featured blacksmith is Rick Smith. \nFeatured demonstrators at Fire on the Mountain are Adam Atkinson\, Frankie Flood\, Glen Gardner\, Lisa Geertsen\, and Jason Knight. \nThere will be cash awards given for 1st\, 2nd\, and 3rd place and an emerging artist award. Winners will be announced at the reception on Friday\, April 28. \nWhen: March 25 – April 29\, 2023\nWhere: Kokol Gallery
URL:http://toeriverarts.org/event/16th-annual-blacksmith-exhibition/
LOCATION:Toe River Arts Gallery – Spruce Pine\, 269 Oak Ave\, Spruce Pine\, NC\, 28777\, United States
CATEGORIES:Exhibition
ATTACH;FMTTYPE=image/jpeg:http://toeriverarts.org/wp-content/uploads/2022/04/image1.jpeg
ORGANIZER;CN="Toe River Arts":MAILTO:info@toeriverarts.org
END:VEVENT
END:VCALENDAR