
BEGIN:VCALENDAR
VERSION:2.0
PRODID:-//Toe River Arts - ECPv6.15.17.1//NONSGML v1.0//EN
CALSCALE:GREGORIAN
METHOD:PUBLISH
X-ORIGINAL-URL:http://toeriverarts.org
X-WR-CALDESC:Events for Toe River Arts
REFRESH-INTERVAL;VALUE=DURATION:PT1H
X-Robots-Tag:noindex
X-PUBLISHED-TTL:PT1H
BEGIN:VTIMEZONE
TZID:America/New_York
BEGIN:DAYLIGHT
TZOFFSETFROM:-0500
TZOFFSETTO:-0400
TZNAME:EDT
DTSTART:20220313T070000
END:DAYLIGHT
BEGIN:STANDARD
TZOFFSETFROM:-0400
TZOFFSETTO:-0500
TZNAME:EST
DTSTART:20221106T060000
END:STANDARD
BEGIN:DAYLIGHT
TZOFFSETFROM:-0500
TZOFFSETTO:-0400
TZNAME:EDT
DTSTART:20230312T070000
END:DAYLIGHT
BEGIN:STANDARD
TZOFFSETFROM:-0400
TZOFFSETTO:-0500
TZNAME:EST
DTSTART:20231105T060000
END:STANDARD
BEGIN:DAYLIGHT
TZOFFSETFROM:-0500
TZOFFSETTO:-0400
TZNAME:EDT
DTSTART:20240310T070000
END:DAYLIGHT
BEGIN:STANDARD
TZOFFSETFROM:-0400
TZOFFSETTO:-0500
TZNAME:EST
DTSTART:20241103T060000
END:STANDARD
END:VTIMEZONE
BEGIN:VEVENT
DTSTART;VALUE=DATE:20230325
DTEND;VALUE=DATE:20230430
DTSTAMP:20260423T093252
CREATED:20230301T015951Z
LAST-MODIFIED:20230301T020048Z
UID:28229-1679702400-1682812799@toeriverarts.org
SUMMARY:16th Annual Blacksmith Exhibition
DESCRIPTION:Featuring the work of blacksmiths from the southeast and beyond\, this exhibition offers craftspeople the opportunity to show their work in a place known for its blacksmithing community. Historically\, the exhibition runs in conjunction with the Fire on the Mountain Blacksmithing Festival. Spruce Pine Main Street\, in collaboration with Penland School of Craft and Toe River Arts\, hosts the festival every year on the last weekend in April. The public can explore vendor tents for goods for sale\, observe live demonstrations\, or try their hand at blacksmithing at scheduled hands-on workshops. Every year\, the Fire on the Mountain Festival asks a renowned metalworker to join the festival as its Featured Artist Blacksmith. This year’s featured blacksmith is Rick Smith. \nFeatured demonstrators at Fire on the Mountain are Adam Atkinson\, Frankie Flood\, Glen Gardner\, Lisa Geertsen\, and Jason Knight. \nThere will be cash awards given for 1st\, 2nd\, and 3rd place and an emerging artist award. Winners will be announced at the reception on Friday\, April 28. \nWhen: March 25 – April 29\, 2023\nWhere: Kokol Gallery
URL:http://toeriverarts.org/event/16th-annual-blacksmith-exhibition/
LOCATION:Toe River Arts Gallery – Spruce Pine\, 269 Oak Ave\, Spruce Pine\, NC\, 28777\, United States
CATEGORIES:Exhibition
ATTACH;FMTTYPE=image/jpeg:http://toeriverarts.org/wp-content/uploads/2022/04/image1.jpeg
ORGANIZER;CN="Toe River Arts":MAILTO:info@toeriverarts.org
END:VEVENT
BEGIN:VEVENT
DTSTART;TZID=America/New_York:20230411T180000
DTEND;TZID=America/New_York:20230411T200000
DTSTAMP:20260423T093252
CREATED:20230125T010416Z
LAST-MODIFIED:20230125T010416Z
UID:27955-1681236000-1681243200@toeriverarts.org
SUMMARY:Second Tuesday Life Drawing - April
DESCRIPTION:Let’s draw together! Bring your favorite drawing implements and surfaces\, or use ours\, and let’s spend the evening in the Toe River Arts Owen Gallery in Spruce Pine\, sharing tips and tricks and improving our drawing skills. We’ll work with live-clothed models and still-life setups. \nRegister here. \nWhen: Tuesday\, April 11\, 2023\, 6 pm – 8 pm\nWhere: Owen Gallery\, Spruce Pine\, NC\nWorkshop & materials fee: \n$12 – Single class – General Public\n$10 – Single class- Current Toe River Arts Members & Donors\n$50 – 5 class punch card – General Public\n$40 – 5 class punch card- Current Toe River Arts Members & Donors\n$95 – 10 class punch card – General Public\n$75 – 10 class punch card – Current Toe River Arts Members & Donors
URL:http://toeriverarts.org/event/second-tuesday-life-drawing-april/
LOCATION:Toe River Arts Gallery – Spruce Pine\, 269 Oak Ave\, Spruce Pine\, NC\, 28777\, United States
CATEGORIES:Workshop
ATTACH;FMTTYPE=image/jpeg:http://toeriverarts.org/wp-content/uploads/2023/01/Life-Drawing-Workshop.jpg
ORGANIZER;CN="Toe River Arts":MAILTO:info@toeriverarts.org
END:VEVENT
BEGIN:VEVENT
DTSTART;TZID=America/New_York:20230415T100000
DTEND;TZID=America/New_York:20230415T140000
DTSTAMP:20260423T093252
CREATED:20230315T012946Z
LAST-MODIFIED:20230315T012946Z
UID:28353-1681552800-1681567200@toeriverarts.org
SUMMARY:Lidded Treasure Jars with Bridget VanRemortel
DESCRIPTION:Join Bridget for a half-day of learning about traditional Appalachian basketry while weaving your very own lidded treasure jar basket. \n“I have always loved creating with my hands in one way or another. I love to create with color and make something that is functional and useful. I enjoy being able to make something that can be used every day and fill a need.” – Bridget VanRemortel \nWhen: April 15\, 2023\, 10 AM – 2 PM\nWhere: Toe River Arts Owen Gallery\, Spruce Pine\, NC\nWorkshop & materials fee:: $55 general public; $45 artist members & donors* (*members & donors must be current at the promotional level) \nRegister here.
URL:http://toeriverarts.org/event/lidded-treasure-jars-with-bridget-vanremortel/
LOCATION:Toe River Arts Gallery – Spruce Pine\, 269 Oak Ave\, Spruce Pine\, NC\, 28777\, United States
CATEGORIES:Workshop
ATTACH;FMTTYPE=image/jpeg:http://toeriverarts.org/wp-content/uploads/2023/03/Lidded-treasure-jar-scaled.jpg
ORGANIZER;CN="Toe River Arts":MAILTO:info@toeriverarts.org
END:VEVENT
BEGIN:VEVENT
DTSTART;TZID=America/New_York:20230422T100000
DTEND;TZID=America/New_York:20230422T120000
DTSTAMP:20260423T093252
CREATED:20230315T013117Z
LAST-MODIFIED:20230315T013117Z
UID:28355-1682157600-1682164800@toeriverarts.org
SUMMARY:Earth Day Planters
DESCRIPTION:Celebrate the Earth by making a textured planter for your home or garden. Students will hand-build clay pots and explore stamping and carving. Class includes materials and firing. Students will pick up fired work at a later date. Ages 5+. \nWhen: Saturday\, April 22\, 2023\, 10 am – 12 pm\nWhere: High Country Ceramic Arts\, Burnsville\, NC\nWorkshop & materials fee:: $55 per participant \nRegister here.
URL:http://toeriverarts.org/event/earth-day-planters/
LOCATION:High Country Ceramic Arts\, Burnsville.\, 552 E U.S. Hwy 19E Bypass\, Burnsville\, North Carolina\, 28714
CATEGORIES:Workshop
ATTACH;FMTTYPE=image/jpeg:http://toeriverarts.org/wp-content/uploads/2023/03/Earth-Day-Planters-scaled.jpg
ORGANIZER;CN="Toe River Arts":MAILTO:info@toeriverarts.org
END:VEVENT
BEGIN:VEVENT
DTSTART;TZID=America/New_York:20230428T170000
DTEND;TZID=America/New_York:20230428T190000
DTSTAMP:20260423T093252
CREATED:20230301T020808Z
LAST-MODIFIED:20230301T020808Z
UID:28233-1682701200-1682708400@toeriverarts.org
SUMMARY:16th Annual Blacksmith Exhibition Reception
DESCRIPTION:When: April 28\, 2023\, 5PM – 7PM\nWhere: Kokol Gallery
URL:http://toeriverarts.org/event/16th-annual-blacksmith-exhibition-reception/
LOCATION:Toe River Arts Gallery – Spruce Pine\, 269 Oak Ave\, Spruce Pine\, NC\, 28777\, United States
CATEGORIES:Exhibition
ATTACH;FMTTYPE=image/jpeg:http://toeriverarts.org/wp-content/uploads/2022/04/IMG_2268_Wide.jpg
ORGANIZER;CN="Toe River Arts":MAILTO:info@toeriverarts.org
END:VEVENT
END:VCALENDAR