
BEGIN:VCALENDAR
VERSION:2.0
PRODID:-//Toe River Arts - ECPv6.15.17.1//NONSGML v1.0//EN
CALSCALE:GREGORIAN
METHOD:PUBLISH
X-WR-CALNAME:Toe River Arts
X-ORIGINAL-URL:http://toeriverarts.org
X-WR-CALDESC:Events for Toe River Arts
REFRESH-INTERVAL;VALUE=DURATION:PT1H
X-Robots-Tag:noindex
X-PUBLISHED-TTL:PT1H
BEGIN:VTIMEZONE
TZID:America/New_York
BEGIN:DAYLIGHT
TZOFFSETFROM:-0500
TZOFFSETTO:-0400
TZNAME:EDT
DTSTART:20220313T070000
END:DAYLIGHT
BEGIN:STANDARD
TZOFFSETFROM:-0400
TZOFFSETTO:-0500
TZNAME:EST
DTSTART:20221106T060000
END:STANDARD
BEGIN:DAYLIGHT
TZOFFSETFROM:-0500
TZOFFSETTO:-0400
TZNAME:EDT
DTSTART:20230312T070000
END:DAYLIGHT
BEGIN:STANDARD
TZOFFSETFROM:-0400
TZOFFSETTO:-0500
TZNAME:EST
DTSTART:20231105T060000
END:STANDARD
BEGIN:DAYLIGHT
TZOFFSETFROM:-0500
TZOFFSETTO:-0400
TZNAME:EDT
DTSTART:20240310T070000
END:DAYLIGHT
BEGIN:STANDARD
TZOFFSETFROM:-0400
TZOFFSETTO:-0500
TZNAME:EST
DTSTART:20241103T060000
END:STANDARD
END:VTIMEZONE
BEGIN:VEVENT
DTSTART;TZID=America/New_York:20230509T180000
DTEND;TZID=America/New_York:20230509T200000
DTSTAMP:20260423T032737
CREATED:20230125T010740Z
LAST-MODIFIED:20230125T010740Z
UID:27957-1683655200-1683662400@toeriverarts.org
SUMMARY:Second Tuesday Life Drawing - May
DESCRIPTION:Let’s draw together! Bring your favorite drawing implements and surfaces\, or use ours\, and let’s spend the evening in the Toe River Arts Owen Gallery in Spruce Pine\, sharing tips and tricks and improving our drawing skills. We’ll work with live-clothed models and still-life setups. \nRegister here. \nWhen: Tuesday\, May 9\, 2023\, 6 pm – 8 pm\nWhere: Owen Gallery\, Spruce Pine\, NC\nWorkshop & materials fee: \n$12 – Single class – General Public\n$10 – Single class- Current Toe River Arts Members & Donors\n$50 – 5 class punch card – General Public\n$40 – 5 class punch card- Current Toe River Arts Members & Donors\n$95 – 10 class punch card – General Public\n$75 – 10 class punch card – Current Toe River Arts Members & Donors
URL:http://toeriverarts.org/event/second-tuesday-life-drawing-may/
LOCATION:Toe River Arts Gallery – Spruce Pine\, 269 Oak Ave\, Spruce Pine\, NC\, 28777\, United States
CATEGORIES:Workshop
ATTACH;FMTTYPE=image/jpeg:http://toeriverarts.org/wp-content/uploads/2023/01/Life-Drawing-Workshop.jpg
ORGANIZER;CN="Toe River Arts":MAILTO:info@toeriverarts.org
END:VEVENT
BEGIN:VEVENT
DTSTART;VALUE=DATE:20230513
DTEND;VALUE=DATE:20230605
DTSTAMP:20260423T032737
CREATED:20230301T021300Z
LAST-MODIFIED:20230301T021300Z
UID:28236-1683936000-1685923199@toeriverarts.org
SUMMARY:Spring Studio Tour Preview Exhibition
DESCRIPTION:The Studio Tour Preview Exhibition is an exhibition of work from artists in Mitchell and Yancey Counties who are participating in the June Studio Tour. The exhibit is in conjunction with the Annual June Studio Tour which takes place annually on the first weekend of June. This year’s studio tour weekend is Friday\, Saturday\, and Sunday\, June 2-4. The exhibition opens on May 13th in the Spruce Pine Kokol Gallery and will run through the tour weekend. It is an opportunity for visitors to get a preview of the artists that are on the tour and what they will be showing in their studios. We encourage visitors to come by the gallery and view this exhibition before they travel to the artists’ studios. There will be a reception on Friday\, June 2\, 5:30 PM – 7:00 PM\, and is open to the public. \nWhen: May 13 – June 4\, 2023\nWhere: Kokol Gallery
URL:http://toeriverarts.org/event/spring-studio-tour-preview-exhibition-2/
LOCATION:Toe River Arts Gallery – Spruce Pine\, 269 Oak Ave\, Spruce Pine\, NC\, 28777\, United States
CATEGORIES:Exhibition
ATTACH;FMTTYPE=image/jpeg:http://toeriverarts.org/wp-content/uploads/2022/11/IMG_4044-scaled.jpg
ORGANIZER;CN="Toe River Arts":MAILTO:info@toeriverarts.org
END:VEVENT
BEGIN:VEVENT
DTSTART;VALUE=DATE:20230516
DTEND;VALUE=DATE:20230605
DTSTAMP:20260423T032737
CREATED:20230524T001933Z
LAST-MODIFIED:20230524T001933Z
UID:29067-1684195200-1685923199@toeriverarts.org
SUMMARY:Exhibition of Work by Mitchell County High School Students
DESCRIPTION:This show provides the opportunity for students to meet other artists during the opening/closing event. It gives them experience working on personal and narrative work to present to the community. They learn to make artists’ statements\, hang a show\, and design invitations. The experience is always positive and allows the community to support its young visual artists. \nWhen: May 16 – June 4\, 2023\nWhere: Owen Gallery
URL:http://toeriverarts.org/event/exhibition-of-work-by-mitchell-county-high-school-students/
LOCATION:Toe River Arts Gallery – Spruce Pine\, 269 Oak Ave\, Spruce Pine\, NC\, 28777\, United States
CATEGORIES:Exhibition
ATTACH;FMTTYPE=image/jpeg:http://toeriverarts.org/wp-content/uploads/2023/02/16CF2B71-5091-4B52-BDA3-38DF6B65C248_1_201_a-scaled.jpeg
ORGANIZER;CN="Toe River Arts":MAILTO:info@toeriverarts.org
END:VEVENT
BEGIN:VEVENT
DTSTART;TZID=America/New_York:20230520T100000
DTEND;TZID=America/New_York:20230520T120000
DTSTAMP:20260423T032737
CREATED:20230315T013242Z
LAST-MODIFIED:20230315T013242Z
UID:28357-1684576800-1684584000@toeriverarts.org
SUMMARY:Fun Clay Faces
DESCRIPTION:We’ll work with clay slabs and drape them over molds to create fun faces and masks. Students will learn how to add facial features and decorations and paint with colorful underglaze. Class includes materials and firing. Students will pick up fired work at a later date. Ages 5+.\n*Kids ages 3-5 may join if accompanied by an adult. \nWhen: Saturday\, May 20\, 2023\, 10 am – 12 pm\nWhere: High Country Ceramic Arts\, Burnsville\, NC\nWorkshop & materials fee:: $55 per participant \nRegister here.
URL:http://toeriverarts.org/event/fun-clay-faces/
LOCATION:High Country Ceramic Arts\, Burnsville.\, 552 E U.S. Hwy 19E Bypass\, Burnsville\, North Carolina\, 28714
CATEGORIES:Workshop
ATTACH;FMTTYPE=image/jpeg:http://toeriverarts.org/wp-content/uploads/2023/03/Fun-Clay-Faces-scaled.jpg
ORGANIZER;CN="Toe River Arts":MAILTO:info@toeriverarts.org
END:VEVENT
END:VCALENDAR