
BEGIN:VCALENDAR
VERSION:2.0
PRODID:-//Toe River Arts - ECPv6.15.17.1//NONSGML v1.0//EN
CALSCALE:GREGORIAN
METHOD:PUBLISH
X-WR-CALNAME:Toe River Arts
X-ORIGINAL-URL:http://toeriverarts.org
X-WR-CALDESC:Events for Toe River Arts
REFRESH-INTERVAL;VALUE=DURATION:PT1H
X-Robots-Tag:noindex
X-PUBLISHED-TTL:PT1H
BEGIN:VTIMEZONE
TZID:America/New_York
BEGIN:DAYLIGHT
TZOFFSETFROM:-0500
TZOFFSETTO:-0400
TZNAME:EDT
DTSTART:20220313T070000
END:DAYLIGHT
BEGIN:STANDARD
TZOFFSETFROM:-0400
TZOFFSETTO:-0500
TZNAME:EST
DTSTART:20221106T060000
END:STANDARD
BEGIN:DAYLIGHT
TZOFFSETFROM:-0500
TZOFFSETTO:-0400
TZNAME:EDT
DTSTART:20230312T070000
END:DAYLIGHT
BEGIN:STANDARD
TZOFFSETFROM:-0400
TZOFFSETTO:-0500
TZNAME:EST
DTSTART:20231105T060000
END:STANDARD
BEGIN:DAYLIGHT
TZOFFSETFROM:-0500
TZOFFSETTO:-0400
TZNAME:EDT
DTSTART:20240310T070000
END:DAYLIGHT
BEGIN:STANDARD
TZOFFSETFROM:-0400
TZOFFSETTO:-0500
TZNAME:EST
DTSTART:20241103T060000
END:STANDARD
END:VTIMEZONE
BEGIN:VEVENT
DTSTART;TZID=America/New_York:20230726T100000
DTEND;TZID=America/New_York:20230728T120000
DTSTAMP:20260422T165257
CREATED:20230321T020553Z
LAST-MODIFIED:20230321T020553Z
UID:28455-1690365600-1690545600@toeriverarts.org
SUMMARY:Baskets and Candle Holders Clay Camp
DESCRIPTION:This workshop will focus on pinched and coil-built work. Just using our hands for much of the work\, we’ll pinch the shapes and make baskets and candle holders. Students will learn to connect creative sculptural elements to pinched pots and create one-of-a-kind work! \nWhen: July 26 – 28\, 2023\, 10 am – 12 pm\nWhere: High Country Ceramic Arts\, Burnsville\, NC\nWorkshop & materials fee:: $150 per participant \nRegister here.
URL:http://toeriverarts.org/event/baskets-and-candle-holders-clay-camp/
LOCATION:High Country Ceramic Arts\, Burnsville.\, 552 E U.S. Hwy 19E Bypass\, Burnsville\, North Carolina\, 28714
CATEGORIES:Workshop
ATTACH;FMTTYPE=image/jpeg:http://toeriverarts.org/wp-content/uploads/2023/03/Baskets-and-Candle-Holders-scaled.jpg
ORGANIZER;CN="Toe River Arts":MAILTO:info@toeriverarts.org
END:VEVENT
END:VCALENDAR