
BEGIN:VCALENDAR
VERSION:2.0
PRODID:-//Toe River Arts - ECPv6.15.17.1//NONSGML v1.0//EN
CALSCALE:GREGORIAN
METHOD:PUBLISH
X-ORIGINAL-URL:http://toeriverarts.org
X-WR-CALDESC:Events for Toe River Arts
REFRESH-INTERVAL;VALUE=DURATION:PT1H
X-Robots-Tag:noindex
X-PUBLISHED-TTL:PT1H
BEGIN:VTIMEZONE
TZID:America/New_York
BEGIN:DAYLIGHT
TZOFFSETFROM:-0500
TZOFFSETTO:-0400
TZNAME:EDT
DTSTART:20220313T070000
END:DAYLIGHT
BEGIN:STANDARD
TZOFFSETFROM:-0400
TZOFFSETTO:-0500
TZNAME:EST
DTSTART:20221106T060000
END:STANDARD
BEGIN:DAYLIGHT
TZOFFSETFROM:-0500
TZOFFSETTO:-0400
TZNAME:EDT
DTSTART:20230312T070000
END:DAYLIGHT
BEGIN:STANDARD
TZOFFSETFROM:-0400
TZOFFSETTO:-0500
TZNAME:EST
DTSTART:20231105T060000
END:STANDARD
BEGIN:DAYLIGHT
TZOFFSETFROM:-0500
TZOFFSETTO:-0400
TZNAME:EDT
DTSTART:20240310T070000
END:DAYLIGHT
BEGIN:STANDARD
TZOFFSETFROM:-0400
TZOFFSETTO:-0500
TZNAME:EST
DTSTART:20241103T060000
END:STANDARD
END:VTIMEZONE
BEGIN:VEVENT
DTSTART;VALUE=DATE:20230729
DTEND;VALUE=DATE:20230910
DTSTAMP:20260421T233241
CREATED:20230524T005653Z
LAST-MODIFIED:20230524T005653Z
UID:29088-1690588800-1694303999@toeriverarts.org
SUMMARY:Entangled: Intersections of Thought & Reality by Stephanie Thomas Berry & Alena Applerose
DESCRIPTION:Giving oneself the opportunity to work outside of usual constraints unlocks access to a deeper expression of the psyche. In conversation one day Alena and Stephanie\, longtime kindred creative spirits\, discovered they had embarked on a similar adventure in their studio practices that was exploring this very idea. Our exhibit consists of drawings and sculptures that we create in conversation with each other and that intersect with our inner life. In addition\, we offer our audience an opportunity to join us on the journey of surrendering expectations through an interactive undertaking of their own. Participants are invited to hang their own creations\, crafted within the space\, with the exhibit. \nWhen: July 29 – September 9\, 2023\nWhere: Owen Gallery
URL:http://toeriverarts.org/event/entangled-intersections-of-thought-reality-by-stephanie-thomas-berry-alena-applerose/
LOCATION:Toe River Arts Gallery – Spruce Pine\, 269 Oak Ave\, Spruce Pine\, NC\, 28777\, United States
CATEGORIES:Exhibition
ATTACH;FMTTYPE=image/jpeg:http://toeriverarts.org/wp-content/uploads/2023/02/Puzzle-Shards-Stephanie-Thomas-Berry.jpg
ORGANIZER;CN="Toe River Arts":MAILTO:info@toeriverarts.org
END:VEVENT
BEGIN:VEVENT
DTSTART;VALUE=DATE:20230804
DTEND;VALUE=DATE:20230910
DTSTAMP:20260421T233241
CREATED:20230602T002821Z
LAST-MODIFIED:20230602T003140Z
UID:29112-1691107200-1694303999@toeriverarts.org
SUMMARY:Resilience: The Heart of Ukraine – Photography by Michael Andrews
DESCRIPTION:The photo exhibition\, “Resilience: The Heart of Ukraine” features work by American photographer Michael Andrews. As a volunteer with United States Peace Corps Ukraine in 2018–19\, Andrews augmented his service as a consultant to an HIV and AIDS service agency working as a photographer for Ukraine’s Baba Yelka Cultural Expedition. The group was formed in 2018 to preserve and share the unique cultural traditions of Ukraine’s Kirovoghad region — stories\, songs\, recipes\, and material culture\, including traditional embroidery. \n“Resilience” offers a unique window into remote village life before Russia’s invasion\, and focuses on the lives of Ukrainian “babusyas” (grandmothers) and their cultural roots. \nThe exhibition was a year in the making and required long-distance collaboration between Andrews and his Ukrainian colleagues. “Resilience” debuted in Charlotte\, NC in 2022\, and presently is on tour to a number of American venues. The exhibition invites discussion of a range of timely topics\, including the iconic role of grandmothers in Ukrainian culture\, the country’s history\, unique traditions\, and today’s war. \n“Resilience: The Heart of Ukraine” is a tribute to the babusyas and families who preserve Ukraine’s unique and beautiful culture and to the Baba Yelka Expedition’s race against time and unthinkable war to preserve Ukraine’s unique traditions for future generations to embrace. \nWhen: August 4 – September 9\nWhere: Kokol Gallery
URL:http://toeriverarts.org/event/resilience-the-heart-of-ukraine-photography-by-michael-andrews/
LOCATION:Toe River Arts Gallery – Spruce Pine\, 269 Oak Ave\, Spruce Pine\, NC\, 28777\, United States
CATEGORIES:Exhibition
ATTACH;FMTTYPE=image/jpeg:http://toeriverarts.org/wp-content/uploads/2023/02/TRA1-scaled.jpg
ORGANIZER;CN="Toe River Arts":MAILTO:info@toeriverarts.org
END:VEVENT
END:VCALENDAR