
BEGIN:VCALENDAR
VERSION:2.0
PRODID:-//Toe River Arts - ECPv6.15.17.1//NONSGML v1.0//EN
CALSCALE:GREGORIAN
METHOD:PUBLISH
X-WR-CALNAME:Toe River Arts
X-ORIGINAL-URL:http://toeriverarts.org
X-WR-CALDESC:Events for Toe River Arts
REFRESH-INTERVAL;VALUE=DURATION:PT1H
X-Robots-Tag:noindex
X-PUBLISHED-TTL:PT1H
BEGIN:VTIMEZONE
TZID:America/New_York
BEGIN:DAYLIGHT
TZOFFSETFROM:-0500
TZOFFSETTO:-0400
TZNAME:EDT
DTSTART:20230312T070000
END:DAYLIGHT
BEGIN:STANDARD
TZOFFSETFROM:-0400
TZOFFSETTO:-0500
TZNAME:EST
DTSTART:20231105T060000
END:STANDARD
BEGIN:DAYLIGHT
TZOFFSETFROM:-0500
TZOFFSETTO:-0400
TZNAME:EDT
DTSTART:20240310T070000
END:DAYLIGHT
BEGIN:STANDARD
TZOFFSETFROM:-0400
TZOFFSETTO:-0500
TZNAME:EST
DTSTART:20241103T060000
END:STANDARD
BEGIN:DAYLIGHT
TZOFFSETFROM:-0500
TZOFFSETTO:-0400
TZNAME:EDT
DTSTART:20250309T070000
END:DAYLIGHT
BEGIN:STANDARD
TZOFFSETFROM:-0400
TZOFFSETTO:-0500
TZNAME:EST
DTSTART:20251102T060000
END:STANDARD
END:VTIMEZONE
BEGIN:VEVENT
DTSTART;TZID=America/New_York:20240210T100000
DTEND;TZID=America/New_York:20240210T130000
DTSTAMP:20260420T030504
CREATED:20240201T020750Z
LAST-MODIFIED:20240201T020750Z
UID:30220-1707559200-1707570000@toeriverarts.org
SUMMARY:Woven Paper Heart Baskets & Valentine’s Paper Craft
DESCRIPTION:Join Alena Applerose in the Owen Gallery for a morning of Valentine-themed paper crafts including woven paper heart baskets & collaged cards for your loved ones. Class includes instruction & all materials. \nRegister here. \nWhen: Saturday\, February 10th from 10 am – 1 pm\nWhere: Toe River Arts\, Spruce Pine\, NC\nCost: $25 per participant.
URL:http://toeriverarts.org/event/woven-paper-heart-baskets-valentines-paper-craft/
LOCATION:Toe River Arts Gallery – Spruce Pine\, 269 Oak Ave\, Spruce Pine\, NC\, 28777\, United States
CATEGORIES:Workshop
ATTACH;FMTTYPE=image/png:http://toeriverarts.org/wp-content/uploads/2024/01/Woven-Paper-Hearts-social-content.png
ORGANIZER;CN="Toe River Arts":MAILTO:info@toeriverarts.org
END:VEVENT
END:VCALENDAR