
BEGIN:VCALENDAR
VERSION:2.0
PRODID:-//Toe River Arts - ECPv6.15.17.1//NONSGML v1.0//EN
CALSCALE:GREGORIAN
METHOD:PUBLISH
X-WR-CALNAME:Toe River Arts
X-ORIGINAL-URL:http://toeriverarts.org
X-WR-CALDESC:Events for Toe River Arts
REFRESH-INTERVAL;VALUE=DURATION:PT1H
X-Robots-Tag:noindex
X-PUBLISHED-TTL:PT1H
BEGIN:VTIMEZONE
TZID:America/New_York
BEGIN:DAYLIGHT
TZOFFSETFROM:-0500
TZOFFSETTO:-0400
TZNAME:EDT
DTSTART:20230312T070000
END:DAYLIGHT
BEGIN:STANDARD
TZOFFSETFROM:-0400
TZOFFSETTO:-0500
TZNAME:EST
DTSTART:20231105T060000
END:STANDARD
BEGIN:DAYLIGHT
TZOFFSETFROM:-0500
TZOFFSETTO:-0400
TZNAME:EDT
DTSTART:20240310T070000
END:DAYLIGHT
BEGIN:STANDARD
TZOFFSETFROM:-0400
TZOFFSETTO:-0500
TZNAME:EST
DTSTART:20241103T060000
END:STANDARD
BEGIN:DAYLIGHT
TZOFFSETFROM:-0500
TZOFFSETTO:-0400
TZNAME:EDT
DTSTART:20250309T070000
END:DAYLIGHT
BEGIN:STANDARD
TZOFFSETFROM:-0400
TZOFFSETTO:-0500
TZNAME:EST
DTSTART:20251102T060000
END:STANDARD
END:VTIMEZONE
BEGIN:VEVENT
DTSTART;VALUE=DATE:20240217
DTEND;VALUE=DATE:20240317
DTSTAMP:20260419T115354
CREATED:20240201T021505Z
LAST-MODIFIED:20240221T013034Z
UID:30224-1708128000-1710633599@toeriverarts.org
SUMMARY:Mitchell County Student Showcase
DESCRIPTION:The Mitchell County Arts In Education Showcase exhibition features the artwork of K -12 students who live in Mitchell County. Represented is public\, private\, homeschooled and unschooled work. Presented each year by Toe River Arts & Penland School of Crafts and The Arts Matter group. We are thrilled to display the 2d and 3d work of our talented young community members and celebrate the importance of art in their lives. The exhibition is in the Kokol Gallery in Spruce Pine and a public reception will take place on March 2\, 11am – 1pm. \nWhen: February 17 – March 16\nWhere: Kokol Gallery
URL:http://toeriverarts.org/event/mitchell-county-student-showcase-2/
LOCATION:Toe River Arts Gallery – Spruce Pine\, 269 Oak Ave\, Spruce Pine\, NC\, 28777\, United States
CATEGORIES:Exhibition
ATTACH;FMTTYPE=image/jpeg:http://toeriverarts.org/wp-content/uploads/2024/02/IMG_1602.jpg
ORGANIZER;CN="Toe River Arts":MAILTO:info@toeriverarts.org
END:VEVENT
BEGIN:VEVENT
DTSTART;VALUE=DATE:20240302
DTEND;VALUE=DATE:20240402
DTSTAMP:20260419T115354
CREATED:20240214T030011Z
LAST-MODIFIED:20240308T010546Z
UID:30238-1709337600-1712015999@toeriverarts.org
SUMMARY:Yancey County Student Showcase
DESCRIPTION:The Yancey County Arts In Education Showcase exhibition features the artwork of K -12 students who live in Yancey County. Represented is public\, private\, homeschooled and unschooled work. Presented each year by Toe River Arts & Penland School of Crafts and The Arts Matter group. We are thrilled to display the 2d and 3d work of our talented young community members and celebrate the importance of art in their lives. The exhibition is in the Herring-Kivette Gallery at the Yancey Public Library in Burnsville and a public reception will take place on March 9\, 11 am – 1 pm. \nWhen: Herring-Kivette Gallery\nWhere: March 2 – April 1
URL:http://toeriverarts.org/event/yancey-county-student-showcase/
LOCATION:Yancey County Public Library\, 321 School Circle\, Burnsville\, 28714\, United States
CATEGORIES:Exhibition
ATTACH;FMTTYPE=image/jpeg:http://toeriverarts.org/wp-content/uploads/2020/12/2019-yancey-student-schowcase-archive.jpg
ORGANIZER;CN="Toe River Arts":MAILTO:info@toeriverarts.org
END:VEVENT
BEGIN:VEVENT
DTSTART;TZID=America/New_York:20240302T110000
DTEND;TZID=America/New_York:20240302T130000
DTSTAMP:20260419T115354
CREATED:20240201T021711Z
LAST-MODIFIED:20240221T013050Z
UID:30227-1709377200-1709384400@toeriverarts.org
SUMMARY:Mitchell County Student Showcase Reception
DESCRIPTION:When: March 2\, 2024\, 11 AM – 1 PM\nWhere: Kokol Gallery
URL:http://toeriverarts.org/event/mitchell-county-student-showcase-reception-2/
LOCATION:Toe River Arts Gallery – Spruce Pine\, 269 Oak Ave\, Spruce Pine\, NC\, 28777\, United States
CATEGORIES:Art Event,Exhibition
ATTACH;FMTTYPE=image/jpeg:http://toeriverarts.org/wp-content/uploads/2024/02/IMG_1617.jpg
ORGANIZER;CN="Toe River Arts":MAILTO:info@toeriverarts.org
END:VEVENT
BEGIN:VEVENT
DTSTART;TZID=America/New_York:20240302T140000
DTEND;TZID=America/New_York:20240302T170000
DTSTAMP:20260419T115354
CREATED:20240214T032135Z
LAST-MODIFIED:20240214T032135Z
UID:30253-1709388000-1709398800@toeriverarts.org
SUMMARY:Lucky Charms: Charm Bracelets with Alena Applerose
DESCRIPTION:Join Alena Applerose for a morning jewelry-making workshop. Our collection contains a charm for just about anything\, so dig into our whimsical supplies and leave wearing your very own personalized charm bracelet. Or make a special gift for someone you love! \nAll materials & supplies provided. \nRegister here. \nWhen: March 2\, 2024\, 2 pm – 5 pm\nWhere: Toe River Arts Owen Gallery\nCost: $35 per person
URL:http://toeriverarts.org/event/lucky-charms-charm-bracelets-with-alena-applerose/
LOCATION:Toe River Arts Gallery – Spruce Pine\, 269 Oak Ave\, Spruce Pine\, NC\, 28777\, United States
CATEGORIES:Workshop
ATTACH;FMTTYPE=image/webp:http://toeriverarts.org/wp-content/uploads/2023/11/charm-bracelet.webp
ORGANIZER;CN="Toe River Arts":MAILTO:info@toeriverarts.org
END:VEVENT
END:VCALENDAR