
BEGIN:VCALENDAR
VERSION:2.0
PRODID:-//Toe River Arts - ECPv6.15.17.1//NONSGML v1.0//EN
CALSCALE:GREGORIAN
METHOD:PUBLISH
X-WR-CALNAME:Toe River Arts
X-ORIGINAL-URL:http://toeriverarts.org
X-WR-CALDESC:Events for Toe River Arts
REFRESH-INTERVAL;VALUE=DURATION:PT1H
X-Robots-Tag:noindex
X-PUBLISHED-TTL:PT1H
BEGIN:VTIMEZONE
TZID:America/New_York
BEGIN:DAYLIGHT
TZOFFSETFROM:-0500
TZOFFSETTO:-0400
TZNAME:EDT
DTSTART:20240310T070000
END:DAYLIGHT
BEGIN:STANDARD
TZOFFSETFROM:-0400
TZOFFSETTO:-0500
TZNAME:EST
DTSTART:20241103T060000
END:STANDARD
BEGIN:DAYLIGHT
TZOFFSETFROM:-0500
TZOFFSETTO:-0400
TZNAME:EDT
DTSTART:20250309T070000
END:DAYLIGHT
BEGIN:STANDARD
TZOFFSETFROM:-0400
TZOFFSETTO:-0500
TZNAME:EST
DTSTART:20251102T060000
END:STANDARD
BEGIN:DAYLIGHT
TZOFFSETFROM:-0500
TZOFFSETTO:-0400
TZNAME:EDT
DTSTART:20260308T070000
END:DAYLIGHT
BEGIN:STANDARD
TZOFFSETFROM:-0400
TZOFFSETTO:-0500
TZNAME:EST
DTSTART:20261101T060000
END:STANDARD
END:VTIMEZONE
BEGIN:VEVENT
DTSTART;VALUE=DATE:20251101
DTEND;VALUE=DATE:20260101
DTSTAMP:20260419T213327
CREATED:20251105T022111Z
LAST-MODIFIED:20251105T023006Z
UID:32878-1761955200-1767225599@toeriverarts.org
SUMMARY:2025 Fall Studio Tour Preview Exhibition
DESCRIPTION:When:  November 1 – December 31\, 2025\nWhere: Kokol Gallery \nThe Studio Tour Preview Exhibition is an exhibition of work from artists in Mitchell and Yancey Counties who are participating in the November Studio Tour. The exhibit is in conjunction with the Annual November Studio Tour\, which takes place annually on the second weekend of November. This year’s studio tour weekend is Friday\, Saturday\, and Sunday\, November 14–16. The exhibition opens on November 1st in the Spruce Pine Kokol Gallery and will run through the end of the year. It is an opportunity for visitors to get a preview of the artists who are on the tour and what they will be showing in their studios. We encourage visitors to come by the gallery and view this exhibition before they travel to the artists’ studios. There will be a reception on Friday\, November 14\, 5:30 PM–7:30 PM\, and is open to the public. \n 
URL:http://toeriverarts.org/event/2025-fall-studio-tour-preview-exhibition/
LOCATION:Toe River Arts Gallery – Spruce Pine\, 269 Oak Ave\, Spruce Pine\, NC\, 28777\, United States
CATEGORIES:Exhibition
ATTACH;FMTTYPE=image/jpeg:http://toeriverarts.org/wp-content/uploads/2025/05/IMG_2545.jpg
ORGANIZER;CN="Toe River Arts":MAILTO:info@toeriverarts.org
END:VEVENT
END:VCALENDAR